BEGIN:VCALENDAR
VERSION:2.0
PRODID:-//Plone.org//NONSGML plone.app.event//EN
X-WR-TIMEZONE:Europe/Berlin
BEGIN:VEVENT
SUMMARY:Regular's table: Bingo night\, powerpoint karaoke etc.
DTSTART;TZID=Europe/Berlin:20231019T190000
DTEND;TZID=Europe/Berlin:20231019T203000
DTSTAMP:20260422T020822Z
UID:bf6d3a4590af44e98a21ec7422eeb1e7@www.fs-physik.uni-bonn.de
CATEGORIES:Stammtisch
CREATED:20231016T214225Z
DESCRIPTION:We let the evening end comfortably with music bingo and powerp
 oint karaoke. This time without a lecture.
LAST-MODIFIED:20240531T170936Z
URL:https://www.fs-physik.uni-bonn.de/en/events/regulars-table/stammtisch-
 bigoabend-powerpointkaraoke-u-ae
END:VEVENT
BEGIN:VTIMEZONE
TZID:Europe/Berlin
X-LIC-LOCATION:Europe/Berlin
BEGIN:DAYLIGHT
DTSTART:20230326T030000
TZNAME:CEST
TZOFFSETFROM:+0100
TZOFFSETTO:+0200
END:DAYLIGHT
END:VTIMEZONE
END:VCALENDAR
