BEGIN:VCALENDAR
VERSION:2.0
PRODID:-//Plone.org//NONSGML plone.app.event//EN
X-WR-TIMEZONE:Europe/Berlin
BEGIN:VEVENT
SUMMARY:Cross-Faculty Game Night
DTSTART;TZID=Europe/Berlin:20241106T190000
DTSTAMP:20260420T091218Z
UID:79a28f95736841e7a55b7456a9698833@www.fs-physik.uni-bonn.de
CREATED:20241104T141029Z
DESCRIPTION:On 06.11.24 it's going to be really exciting at HISKP*! Come t
 o our cross-faculty games evening. Participants include the Politics\, Phy
 sics\, Computer Science\, Pharmacy and Economics FS. Try your hand at the 
 many games provided or bring your favourite games and show us what you're 
 made of! \nAnd as a special highlight\, there will be karaoke!\n\nWe look 
 forward to seeing you! 🎲✨\n\n*Nussallee 14-16
LAST-MODIFIED:20250906T001026Z
URL:https://www.fs-physik.uni-bonn.de/en/events/game-nights/cross-faculty-
 game-night
END:VEVENT
BEGIN:VTIMEZONE
TZID:Europe/Berlin
X-LIC-LOCATION:Europe/Berlin
BEGIN:STANDARD
DTSTART:20241027T020000
TZNAME:CET
TZOFFSETFROM:+0200
TZOFFSETTO:+0100
END:STANDARD
END:VTIMEZONE
END:VCALENDAR
