BEGIN:VCALENDAR
VERSION:2.0
PRODID:-//Plone.org//NONSGML plone.app.event//EN
X-WR-TIMEZONE:Europe/Berlin
BEGIN:VEVENT
SUMMARY:Election Barbecue 2025
DTSTART;TZID=Europe/Berlin:20250509T160000
DTEND;TZID=Europe/Berlin:20250509T190000
DTSTAMP:20260423T003434Z
UID:f1a2f8ddb3554400b6c1a630e17bd3d0@www.fs-physik.uni-bonn.de
CREATED:20240516T080924Z
DESCRIPTION:After the FSV election there will be an election barbecue agai
 n\, where all voters will get a free bratwurst (or vegetarian/vegan altern
 ative) for their vouchers. Feel free to stop by :)
LAST-MODIFIED:20250906T001026Z
URL:https://www.fs-physik.uni-bonn.de/en/events/election-barbecues/electio
 n-bbq-2025
END:VEVENT
BEGIN:VTIMEZONE
TZID:Europe/Berlin
X-LIC-LOCATION:Europe/Berlin
BEGIN:DAYLIGHT
DTSTART:20250330T030000
TZNAME:CEST
TZOFFSETFROM:+0100
TZOFFSETTO:+0200
END:DAYLIGHT
END:VTIMEZONE
END:VCALENDAR
