BEGIN:VCALENDAR
VERSION:2.0
PRODID:-//Plone.org//NONSGML plone.app.event//EN
X-WR-TIMEZONE:Europe/Berlin
BEGIN:VEVENT
SUMMARY:Election BBQ 2024
DTSTART;TZID=Europe/Berlin:20240517T160000
DTEND;TZID=Europe/Berlin:20240517T180000
DTSTAMP:20260422T053128Z
UID:e0483cb93971453bad23fcded8c54b6c@www.fs-physik.uni-bonn.de
CREATED:20240516T080924Z
DESCRIPTION:After the FSV election there will be an election barbecue agai
 n\, where all voters will get a free bratwurst.
LAST-MODIFIED:20250626T085520Z
URL:https://www.fs-physik.uni-bonn.de/en/events/election-barbecues/electio
 n-bbq-2024
END:VEVENT
BEGIN:VTIMEZONE
TZID:Europe/Berlin
X-LIC-LOCATION:Europe/Berlin
BEGIN:DAYLIGHT
DTSTART:20240331T030000
TZNAME:CEST
TZOFFSETFROM:+0100
TZOFFSETTO:+0200
END:DAYLIGHT
END:VTIMEZONE
END:VCALENDAR
